Workbook

Sheet 基本情報入力
D3: このファイルは2026年度第17回東京都学生バドミントン選手権大会に出場するための申込みファイルです。 以下の説明を熟読してください。エクセルファイルに記入漏れがあったり、正しい手順で入力されてない場合、出場出来ない場合がありますのでご注意ください。 またこのエクセルファイルのシートを削除したり、セルの行・列は変更しないでください。 ①まず「基本情報入力」のシートに「大学番号」「大学名」「記入責任者名」「記入責任者連絡先」を正確に入力してください。 ②次に「シングルス入力」シートに「選手名」「学年」「日本協会登録番号」を正確に入力してください。 ※この際、選手はランキング順に記入してください。 ③次に「ダブルス入力」シートに「選手名」「学年」「日本協会登録番号」を正確に入力してください。 ※この際、選手はランキング順に記入してください。 ④参加費のシートで振り込み 振込口座は以下の通りです。 ゆうちょ銀行 口座番号 ：００１５０－０－６９４３２９ 口 座 名 義：東京都学生バドミントン連盟 ＊払込取扱票は必ず大学番号、大学名、振込額など必要事項を記入するようにしてください。＊電信不可 ⑤全て正確に入力したことが確認できた場合、このエクセルのファイル名を「大学番号,大学名,都学生」としてください。 ＊半角で入力してください。＊例）T1111,○○大学,都学生 ⑥このファイルを「togakuren.info@gmail.com」まで送信してください。 ※その際件名は「大学番号,大学名,都学生」にしてください。 (注意) ・メールを送信する場合、必ず男女別で行ってください。 ・ファイル名、件名の表示等が間違っている場合には正しく処理が行われず、出場が出来ない場合があるのでご注意ください。 ・VBAのシートは何も変更しないでください。正しく処理されなくなる恐れがあります。 ・メールは必ずPCから送ってください。メール送信後に自動返信が来ることを確認してください。また、gmailからメールを送信してください。Outlookからではうまく処理されない可能性があります。 | BS3: 男子
BS4: 女子
D50: 大学番号 | L50: T | W50: 大学名 | BF50: 女子
D54: 入力責任者 | AK54: 入力責任者連絡先 | AX54: - | BF54: -

Sheet シングルス入力
D2: 大学番号 | L2: T | O2: =IF(基本情報入力!O50="","",基本情報入力!O50) | W2: 大学名 | AE2: =IF(基本情報入力!AE50="","",基本情報入力!AE50) | BF2: =基本情報入力!BF50 -> 女子
D6: 入力責任者 | O6: =IF(基本情報入力!O54="","",基本情報入力!O54) | AK6: 入力責任者連絡先 | AT6: =IF(基本情報入力!AT54="","",基本情報入力!AT54) | AX6: - | AZ6: =IF(基本情報入力!AZ54="","",基本情報入力!AZ54) | BF6: - | BH6: =IF(基本情報入力!BH54="","",基本情報入力!BH54)
G11: 姓 | S11: 名 | AE11: 学年 | AI11: 日本協会登録番号 | AU11: 姓 | BG11: 名 | BS11: 学年 | BW11: 日本協会登録番号
D14: 例 | G14: こじま | S14: かつひで | AE14: 4 | AI14: 00011125 | AR14: 26
G15: 兒嶋 | S15: 克英
D18: 1 | AR18: 27
D22: 2 | AR22: 28
D26: 3 | AR26: 29
D30: 4 | AR30: 30
D34: 5 | AR34: 31
D38: 6 | AR38: 32
D42: 7 | AR42: 33
D46: 8 | AR46: 34
D50: 9 | AR50: 35
D54: 10 | AR54: 36
D58: 11 | AR58: 37
D62: 12 | AR62: 38
... D114: 25 | AR114: 51

Sheet ダブルス入力
D2: 大学番号 | L2: T | O2: =IF(基本情報入力!O50="","",基本情報入力!O50) | W2: 大学名 | AE2: =IF(基本情報入力!AE50="","",基本情報入力!AE50) | BF2: =基本情報入力!BF50 -> 女子
D6: 入力責任者 | O6: =IF(基本情報入力!O54="","",基本情報入力!O54) | AK6: 入力責任者連絡先 | AT6: =IF(基本情報入力!AT54="","",基本情報入力!AT54) | AX6: - | AZ6: =IF(基本情報入力!AZ54="","",基本情報入力!AZ54) | BF6: - | BH6: =IF(基本情報入力!BH54="","",基本情報入力!BH54)
G11: 姓 | S11: 名 | AE11: 学年 | AI11: 日本協会登録番号 | AU11: 姓 | BG11: 名 | BS11: 学年 | BW11: 日本協会登録番号
D14: 例 | G14: こじま | S14: かつひで | AE14: 4 | AI14: 00011125 | AR14: 例 | AU14: くぼた | BG14: のぼる | BS14: 4 | BW14: 00256898
G15: 兒嶋 | S15: 克英 | AU15: 久保田 | BG15: 昇
D18: 1 | AR18: 1
D22: 2 | AR22: 2
D26: 3 | AR26: 3
D30: 4 | AR30: 4
D34: 5 | AR34: 5
D38: 6 | AR38: 6
D42: 7 | AR42: 7
D46: 8 | AR46: 8
D50: 9 | AR50: 9
D54: 10 | AR54: 10
D58: 11 | AR58: 11
D62: 12 | AR62: 12
... D114: 25 | AR114: 25

Sheet 参加費
E4: シングルス参加人数 | Z4: =COUNT(シングルス入力!AE18:AH117)+COUNT(シングルス入力!BS14:BV117) -> 0 | AF4: 人 | AN4: シングルス参加費 | BI4: =Z4*3000 -> 0 | BV4: 円
E10: ダブルス参加人数 | Z10: =COUNT(ダブルス入力!BS18:BV117) -> 0 | AF10: 組 | AN10: ダブルス参加人数 | BI10: =Z10*6000 -> 0 | BV10: 円
AN16: 参加費合計 | BI16: =BI4+BI10 -> 0 | BV16: 円
E22: 振込口座は以下の通りです。 ゆうちょ銀行 口座番号 ：００１５０－０－６９４３２９ 口 座 名 義：東京都学生バドミントン連盟 ＊払込取扱票は必ず大学番号、大学名、振込額など必要事項を記入するようにしてください。 (注意) ・メールを送信する場合、必ず男女別で行ってください。 ・ファイル名、件名の表示等が間違っている場合には正しく処理が行われず、出場が出来ない場合があるのでご注意ください。 ・VBAのシートは何も変更しないでください。正しく処理されなくなる恐れがあります。 ・メールは必ずPCから送ってください。メールはOutlookではなくgmailから送るようにしてください。 ・メール送信後に自動返信が来ることを確認してください。

Sheet VBA
B2: MS | C2: =シングルス入力!G19&" "&シングルス入力!S19 | D2: =基本情報入力!$AE$50 -> 0 | E2: -1 | F2: =シングルス入力!G18&" "&シングルス入力!S18 | H2: MD | I2: =ダブルス入力!G19&" "&ダブルス入力!S19 | J2: =ダブルス入力!AU19&" "&ダブルス入力!BG19 | K2: =基本情報入力!$AE$50 -> 0 | L2: =基本情報入力!$AE$50 -> 0 | M2: -1 | N2: =ダブルス入力!G18&" "&ダブルス入力!S18 | O2: =ダブルス入力!AU18&" "&ダブルス入力!BG18
B3: MS | C3: =シングルス入力!G23&" "&シングルス入力!S23 | D3: =基本情報入力!$AE$50 -> 0 | E3: -1 | F3: =シングルス入力!G22&" "&シングルス入力!S22 | H3: MD | I3: =ダブルス入力!G23&" "&ダブルス入力!S23 | J3: =ダブルス入力!AU23&" "&ダブルス入力!BG23 | K3: =基本情報入力!$AE$50 -> 0 | L3: =基本情報入力!$AE$50 -> 0 | M3: -1 | N3: =ダブルス入力!G22&" "&ダブルス入力!S22 | O3: =ダブルス入力!AU22&" "&ダブルス入力!BG22
B4: MS | C4: =シングルス入力!G27&" "&シングルス入力!S27 | D4: =基本情報入力!$AE$50 -> 0 | E4: -1 | F4: =シングルス入力!G26&" "&シングルス入力!S26 | H4: MD | I4: =ダブルス入力!G27&" "&ダブルス入力!S27 | J4: =ダブルス入力!AU27&" "&ダブルス入力!BG27 | K4: =基本情報入力!$AE$50 -> 0 | L4: =基本情報入力!$AE$50 -> 0 | M4: -1 | N4: =ダブルス入力!G26&" "&ダブルス入力!S26 | O4: =ダブルス入力!AU26&" "&ダブルス入力!BG26
B5: MS | C5: =シングルス入力!G31&" "&シングルス入力!S31 | D5: =基本情報入力!$AE$50 -> 0 | E5: -1 | F5: =シングルス入力!G30&" "&シングルス入力!S30 | H5: MD | I5: =ダブルス入力!G31&" "&ダブルス入力!S31 | J5: =ダブルス入力!AU31&" "&ダブルス入力!BG31 | K5: =基本情報入力!$AE$50 -> 0 | L5: =基本情報入力!$AE$50 -> 0 | M5: -1 | N5: =ダブルス入力!G30&" "&ダブルス入力!S30 | O5: =ダブルス入力!AU30&" "&ダブルス入力!BG30
B6: MS | C6: =シングルス入力!G35&" "&シングルス入力!S35 | D6: =基本情報入力!$AE$50 -> 0 | E6: -1 | F6: =シングルス入力!G34&" "&シングルス入力!S34 | H6: MD | I6: =ダブルス入力!G35&" "&ダブルス入力!S35 | J6: =ダブルス入力!AU35&" "&ダブルス入力!BG35 | K6: =基本情報入力!$AE$50 -> 0 | L6: =基本情報入力!$AE$50 -> 0 | M6: -1 | N6: =ダブルス入力!G34&" "&ダブルス入力!S34 | O6: =ダブルス入力!AU34&" "&ダブルス入力!BG34
B7: MS | C7: =シングルス入力!G39&" "&シングルス入力!S39 | D7: =基本情報入力!$AE$50 -> 0 | E7: -1 | F7: =シングルス入力!G38&" "&シングルス入力!S38 | H7: MD | I7: =ダブルス入力!G39&" "&ダブルス入力!S39 | J7: =ダブルス入力!AU39&" "&ダブルス入力!BG39 | K7: =基本情報入力!$AE$50 -> 0 | L7: =基本情報入力!$AE$50 -> 0 | M7: -1 | N7: =ダブルス入力!G38&" "&ダブルス入力!S38 | O7: =ダブルス入力!AU38&" "&ダブルス入力!BG38
B8: MS | C8: =シングルス入力!G43&" "&シングルス入力!S43 | D8: =基本情報入力!$AE$50 -> 0 | E8: -1 | F8: =シングルス入力!G42&" "&シングルス入力!S42 | H8: MD | I8: =ダブルス入力!G43&" "&ダブルス入力!S43 | J8: =ダブルス入力!AU43&" "&ダブルス入力!BG43 | K8: =基本情報入力!$AE$50 -> 0 | L8: =基本情報入力!$AE$50 -> 0 | M8: -1 | N8: =ダブルス入力!G42&" "&ダブルス入力!S42 | O8: =ダブルス入力!AU42&" "&ダブルス入力!BG42
B9: MS | C9: =シングルス入力!G47&" "&シングルス入力!S47 | D9: =基本情報入力!$AE$50 -> 0 | E9: -1 | F9: =シングルス入力!G46&" "&シングルス入力!S46 | H9: MD | I9: =ダブルス入力!G47&" "&ダブルス入力!S47 | J9: =ダブルス入力!AU47&" "&ダブルス入力!BG47 | K9: =基本情報入力!$AE$50 -> 0 | L9: =基本情報入力!$AE$50 -> 0 | M9: -1 | N9: =ダブルス入力!G46&" "&ダブルス入力!S46 | O9: =ダブルス入力!AU46&" "&ダブルス入力!BG46
B10: MS | C10: =シングルス入力!G51&" "&シングルス入力!S51 | D10: =基本情報入力!$AE$50 -> 0 | E10: -1 | F10: =シングルス入力!G50&" "&シングルス入力!S50 | H10: MD | I10: =ダブルス入力!G51&" "&ダブルス入力!S51 | J10: =ダブルス入力!AU51&" "&ダブルス入力!BG51 | K10: =基本情報入力!$AE$50 -> 0 | L10: =基本情報入力!$AE$50 -> 0 | M10: -1 | N10: =ダブルス入力!G50&" "&ダブルス入力!S50 | O10: =ダブルス入力!AU50&" "&ダブルス入力!BG50
B11: MS | C11: =シングルス入力!G55&" "&シングルス入力!S55 | D11: =基本情報入力!$AE$50 -> 0 | E11: -1 | F11: =シングルス入力!G54&" "&シングルス入力!S54 | H11: MD | I11: =ダブルス入力!G55&" "&ダブルス入力!S55 | J11: =ダブルス入力!AU55&" "&ダブルス入力!BG55 | K11: =基本情報入力!$AE$50 -> 0 | L11: =基本情報入力!$AE$50 -> 0 | M11: -1 | N11: =ダブルス入力!G54&" "&ダブルス入力!S54 | O11: =ダブルス入力!AU54&" "&ダブルス入力!BG54
B12: MS | C12: =シングルス入力!G59&" "&シングルス入力!S59 | D12: =基本情報入力!$AE$50 -> 0 | E12: -1 | F12: =シングルス入力!G58&" "&シングルス入力!S58 | H12: MD | I12: =ダブルス入力!G59&" "&ダブルス入力!S59 | J12: =ダブルス入力!AU59&" "&ダブルス入力!BG59 | K12: =基本情報入力!$AE$50 -> 0 | L12: =基本情報入力!$AE$50 -> 0 | M12: -1 | N12: =ダブルス入力!G58&" "&ダブルス入力!S58 | O12: =ダブルス入力!AU58&" "&ダブルス入力!BG58
B13: MS | C13: =シングルス入力!G63&" "&シングルス入力!S63 | D13: =基本情報入力!$AE$50 -> 0 | E13: -1 | F13: =シングルス入力!G62&" "&シングルス入力!S62 | H13: MD | I13: =ダブルス入力!G63&" "&ダブルス入力!S63 | J13: =ダブルス入力!AU63&" "&ダブルス入力!BG63 | K13: =基本情報入力!$AE$50 -> 0 | L13: =基本情報入力!$AE$50 -> 0 | M13: -1 | N13: =ダブルス入力!G62&" "&ダブルス入力!S62 | O13: =ダブルス入力!AU62&" "&ダブルス入力!BG62
B14: MS | C14: =シングルス入力!G67&" "&シングルス入力!S67 | D14: =基本情報入力!$AE$50 -> 0 | E14: -1 | F14: =シングルス入力!G66&" "&シングルス入力!S66 | H14: MD | I14: =ダブルス入力!G67&" "&ダブルス入力!S67 | J14: =ダブルス入力!AU67&" "&ダブルス入力!BG67 | K14: =基本情報入力!$AE$50 -> 0 | L14: =基本情報入力!$AE$50 -> 0 | M14: -1 | N14: =ダブルス入力!G66&" "&ダブルス入力!S66 | O14: =ダブルス入力!AU66&" "&ダブルス入力!BG66
B15: MS | C15: =シングルス入力!G71&" "&シングルス入力!S71 | D15: =基本情報入力!$AE$50 -> 0 | E15: -1 | F15: =シングルス入力!G70&" "&シングルス入力!S70 | H15: MD | I15: =ダブルス入力!G71&" "&ダブルス入力!S71 | J15: =ダブルス入力!AU71&" "&ダブルス入力!BG71 | K15: =基本情報入力!$AE$50 -> 0 | L15: =基本情報入力!$AE$50 -> 0 | M15: -1 | N15: =ダブルス入力!G70&" "&ダブルス入力!S70 | O15: =ダブルス入力!AU70&" "&ダブルス入力!BG70
B16: MS | C16: =シングルス入力!G75&" "&シングルス入力!S75 | D16: =基本情報入力!$AE$50 -> 0 | E16: -1 | F16: =シングルス入力!G74&" "&シングルス入力!S74 | H16: MD | I16: =ダブルス入力!G75&" "&ダブルス入力!S75 | J16: =ダブルス入力!AU75&" "&ダブルス入力!BG75 | K16: =基本情報入力!$AE$50 -> 0 | L16: =基本情報入力!$AE$50 -> 0 | M16: -1 | N16: =ダブルス入力!G74&" "&ダブルス入力!S74 | O16: =ダブルス入力!AU74&" "&ダブルス入力!BG74
B17: MS | C17: =シングルス入力!G79&" "&シングルス入力!S79 | D17: =基本情報入力!$AE$50 -> 0 | E17: -1 | F17: =シングルス入力!G78&" "&シングルス入力!S78 | H17: MD | I17: =ダブルス入力!G79&" "&ダブルス入力!S79 | J17: =ダブルス入力!AU79&" "&ダブルス入力!BG79 | K17: =基本情報入力!$AE$50 -> 0 | L17: =基本情報入力!$AE$50 -> 0 | M17: -1 | N17: =ダブルス入力!G78&" "&ダブルス入力!S78 | O17: =ダブルス入力!AU78&" "&ダブルス入力!BG78
B18: MS | C18: =シングルス入力!G83&" "&シングルス入力!S83 | D18: =基本情報入力!$AE$50 -> 0 | E18: -1 | F18: =シングルス入力!G82&" "&シングルス入力!S82 | H18: MD | I18: =ダブルス入力!G83&" "&ダブルス入力!S83 | J18: =ダブルス入力!AU83&" "&ダブルス入力!BG83 | K18: =基本情報入力!$AE$50 -> 0 | L18: =基本情報入力!$AE$50 -> 0 | M18: -1 | N18: =ダブルス入力!G82&" "&ダブルス入力!S82 | O18: =ダブルス入力!AU82&" "&ダブルス入力!BG82
B19: MS | C19: =シングルス入力!G87&" "&シングルス入力!S87 | D19: =基本情報入力!$AE$50 -> 0 | E19: -1 | F19: =シングルス入力!G86&" "&シングルス入力!S86 | H19: MD | I19: =ダブルス入力!G87&" "&ダブルス入力!S87 | J19: =ダブルス入力!AU87&" "&ダブルス入力!BG87 | K19: =基本情報入力!$AE$50 -> 0 | L19: =基本情報入力!$AE$50 -> 0 | M19: -1 | N19: =ダブルス入力!G86&" "&ダブルス入力!S86 | O19: =ダブルス入力!AU86&" "&ダブルス入力!BG86
B20: MS | C20: =シングルス入力!G91&" "&シングルス入力!S91 | D20: =基本情報入力!$AE$50 -> 0 | E20: -1 | F20: =シングルス入力!G90&" "&シングルス入力!S90 | H20: MD | I20: =ダブルス入力!G91&" "&ダブルス入力!S91 | J20: =ダブルス入力!AU91&" "&ダブルス入力!BG91 | K20: =基本情報入力!$AE$50 -> 0 | L20: =基本情報入力!$AE$50 -> 0 | M20: -1 | N20: =ダブルス入力!G90&" "&ダブルス入力!S90 | O20: =ダブルス入力!AU90&" "&ダブルス入力!BG90
B21: MS | C21: =シングルス入力!G95&" "&シングルス入力!S95 | D21: =基本情報入力!$AE$50 -> 0 | E21: -1 | F21: =シングルス入力!G94&" "&シングルス入力!S94 | H21: MD | I21: =ダブルス入力!G95&" "&ダブルス入力!S95 | J21: =ダブルス入力!AU95&" "&ダブルス入力!BG95 | K21: =基本情報入力!$AE$50 -> 0 | L21: =基本情報入力!$AE$50 -> 0 | M21: -1 | N21: =ダブルス入力!G94&" "&ダブルス入力!S94 | O21: =ダブルス入力!AU94&" "&ダブルス入力!BG94
B22: MS | C22: =シングルス入力!G99&" "&シングルス入力!S99 | D22: =基本情報入力!$AE$50 -> 0 | E22: -1 | F22: =シングルス入力!G98&" "&シングルス入力!S98 | H22: MD | I22: =ダブルス入力!G99&" "&ダブルス入力!S99 | J22: =ダブルス入力!AU99&" "&ダブルス入力!BG99 | K22: =基本情報入力!$AE$50 -> 0 | L22: =基本情報入力!$AE$50 -> 0 | M22: -1 | N22: =ダブルス入力!G98&" "&ダブルス入力!S98 | O22: =ダブルス入力!AU98&" "&ダブルス入力!BG98
B23: MS | C23: =シングルス入力!G103&" "&シングルス入力!S103 | D23: =基本情報入力!$AE$50 -> 0 | E23: -1 | F23: =シングルス入力!G102&" "&シングルス入力!S102 | H23: MD | I23: =ダブルス入力!G103&" "&ダブルス入力!S103 | J23: =ダブルス入力!AU103&" "&ダブルス入力!BG103 | K23: =基本情報入力!$AE$50 -> 0 | L23: =基本情報入力!$AE$50 -> 0 | M23: -1 | N23: =ダブルス入力!G102&" "&ダブルス入力!S102 | O23: =ダブルス入力!AU102&" "&ダブルス入力!BG102
B24: MS | C24: =シングルス入力!G107&" "&シングルス入力!S107 | D24: =基本情報入力!$AE$50 -> 0 | E24: -1 | F24: =シングルス入力!G106&" "&シングルス入力!S106 | H24: MD | I24: =ダブルス入力!G107&" "&ダブルス入力!S107 | J24: =ダブルス入力!AU107&" "&ダブルス入力!BG107 | K24: =基本情報入力!$AE$50 -> 0 | L24: =基本情報入力!$AE$50 -> 0 | M24: -1 | N24: =ダブルス入力!G106&" "&ダブルス入力!S106 | O24: =ダブルス入力!AU106&" "&ダブルス入力!BG106
B25: MS | C25: =シングルス入力!G111&" "&シングルス入力!S111 | D25: =基本情報入力!$AE$50 -> 0 | E25: -1 | F25: =シングルス入力!G110&" "&シングルス入力!S110 | H25: MD | I25: =ダブルス入力!G111&" "&ダブルス入力!S111 | J25: =ダブルス入力!AU111&" "&ダブルス入力!BG111 | K25: =基本情報入力!$AE$50 -> 0 | L25: =基本情報入力!$AE$50 -> 0 | M25: -1 | N25: =ダブルス入力!G110&" "&ダブルス入力!S110 | O25: =ダブルス入力!AU110&" "&ダブルス入力!BG110
B26: MS | C26: =シングルス入力!G115&" "&シングルス入力!S115 | D26: =基本情報入力!$AE$50 -> 0 | E26: -1 | F26: =シングルス入力!G114&" "&シングルス入力!S114 | H26: MD | I26: =ダブルス入力!G115&" "&ダブルス入力!S115 | J26: =ダブルス入力!AU115&" "&ダブルス入力!BG115 | K26: =基本情報入力!$AE$50 -> 0 | L26: =基本情報入力!$AE$50 -> 0 | M26: -1 | N26: =ダブルス入力!G114&" "&ダブルス入力!S114 | O26: =ダブルス入力!AU114&" "&ダブルス入力!BG114
B27: MS | C27: =シングルス入力!AU15&" "&シングルス入力!AU15 | D27: =基本情報入力!$AE$50 -> 0 | E27: -1 | F27: =シングルス入力!AU14&" "&シングルス入力!AU14
B28: MS | C28: =シングルス入力!AU19&" "&シングルス入力!AU19 | D28: =基本情報入力!$AE$50 -> 0 | E28: -1 | F28: =シングルス入力!AU18&" "&シングルス入力!AU18
B29: MS | C29: =シングルス入力!AU23&" "&シングルス入力!AU23 | D29: =基本情報入力!$AE$50 -> 0 | E29: -1 | F29: =シングルス入力!AU22&" "&シングルス入力!AU22
B30: MS | C30: =シングルス入力!AU27&" "&シングルス入力!AU27 | D30: =基本情報入力!$AE$50 -> 0 | E30: -1 | F30: =シングルス入力!AU26&" "&シングルス入力!AU26
B31: MS | C31: =シングルス入力!AU31&" "&シングルス入力!AU31 | D31: =基本情報入力!$AE$50 -> 0 | E31: -1 | F31: =シングルス入力!AU30&" "&シングルス入力!AU30
B32: MS | C32: =シングルス入力!AU35&" "&シングルス入力!AU35 | D32: =基本情報入力!$AE$50 -> 0 | E32: -1 | F32: =シングルス入力!AU34&" "&シングルス入力!AU34
B33: MS | C33: =シングルス入力!AU39&" "&シングルス入力!AU39 | D33: =基本情報入力!$AE$50 -> 0 | E33: -1 | F33: =シングルス入力!AU38&" "&シングルス入力!AU38
B34: MS | C34: =シングルス入力!AU43&" "&シングルス入力!AU43 | D34: =基本情報入力!$AE$50 -> 0 | E34: -1 | F34: =シングルス入力!AU42&" "&シングルス入力!AU42
B35: MS | C35: =シングルス入力!AU47&" "&シングルス入力!AU47 | D35: =基本情報入力!$AE$50 -> 0 | E35: -1 | F35: =シングルス入力!AU46&" "&シングルス入力!AU46
B36: MS | C36: =シングルス入力!AU51&" "&シングルス入力!AU51 | D36: =基本情報入力!$AE$50 -> 0 | E36: -1 | F36: =シングルス入力!AU50&" "&シングルス入力!AU50
B37: MS | C37: =シングルス入力!AU55&" "&シングルス入力!AU55 | D37: =基本情報入力!$AE$50 -> 0 | E37: -1 | F37: =シングルス入力!AU54&" "&シングルス入力!AU54
B38: MS | C38: =シングルス入力!AU59&" "&シングルス入力!AU59 | D38: =基本情報入力!$AE$50 -> 0 | E38: -1 | F38: =シングルス入力!AU58&" "&シングルス入力!AU58
B39: MS | C39: =シングルス入力!AU63&" "&シングルス入力!AU63 | D39: =基本情報入力!$AE$50 -> 0 | E39: -1 | F39: =シングルス入力!AU62&" "&シングルス入力!AU62
B40: MS | C40: =シングルス入力!AU67&" "&シングルス入力!AU67 | D40: =基本情報入力!$AE$50 -> 0 | E40: -1 | F40: =シングルス入力!AU66&" "&シングルス入力!AU66
B41: MS | C41: =シングルス入力!AU71&" "&シングルス入力!AU71 | D41: =基本情報入力!$AE$50 -> 0 | E41: -1 | F41: =シングルス入力!AU70&" "&シングルス入力!AU70
B42: MS | C42: =シングルス入力!AU75&" "&シングルス入力!AU75 | D42: =基本情報入力!$AE$50 -> 0 | E42: -1 | F42: =シングルス入力!AU74&" "&シングルス入力!AU74
B43: MS | C43: =シングルス入力!AU79&" "&シングルス入力!AU79 | D43: =基本情報入力!$AE$50 -> 0 | E43: -1 | F43: =シングルス入力!AU78&" "&シングルス入力!AU78
B44: MS | C44: =シングルス入力!AU83&" "&シングルス入力!AU83 | D44: =基本情報入力!$AE$50 -> 0 | E44: -1 | F44: =シングルス入力!AU82&" "&シングルス入力!AU82
B45: MS | C45: =シングルス入力!AU87&" "&シングルス入力!AU87 | D45: =基本情報入力!$AE$50 -> 0 | E45: -1 | F45: =シングルス入力!AU86&" "&シングルス入力!AU86
B46: MS | C46: =シングルス入力!AU91&" "&シングルス入力!AU91 | D46: =基本情報入力!$AE$50 -> 0 | E46: -1 | F46: =シングルス入力!AU90&" "&シングルス入力!AU90
B47: MS | C47: =シングルス入力!AU95&" "&シングルス入力!AU95 | D47: =基本情報入力!$AE$50 -> 0 | E47: -1 | F47: =シングルス入力!AU94&" "&シングルス入力!AU94
B48: MS | C48: =シングルス入力!AU99&" "&シングルス入力!AU99 | D48: =基本情報入力!$AE$50 -> 0 | E48: -1 | F48: =シングルス入力!AU98&" "&シングルス入力!AU98
B49: MS | C49: =シングルス入力!AU103&" "&シングルス入力!AU103 | D49: =基本情報入力!$AE$50 -> 0 | E49: -1 | F49: =シングルス入力!AU102&" "&シングルス入力!AU102
B50: MS | C50: =シングルス入力!AU107&" "&シングルス入力!AU107 | D50: =基本情報入力!$AE$50 -> 0 | E50: -1 | F50: =シングルス入力!AU106&" "&シングルス入力!AU106
B51: MS | C51: =シングルス入力!AU111&" "&シングルス入力!AU111 | D51: =基本情報入力!$AE$50 -> 0 | E51: -1 | F51: =シングルス入力!AU110&" "&シングルス入力!AU110
B52: MS | C52: =シングルス入力!AU115&" "&シングルス入力!AU115 | D52: =基本情報入力!$AE$50 -> 0 | E52: -1 | F52: =シングルス入力!AU114&" "&シングルス入力!AU114
